BEGIN:VCALENDAR
VERSION:2.0
PRODID:-//Cameroon&#039;s #1 Music and Entertainment Portal - ECPv5.14.2.1//NONSGML v1.0//EN
CALSCALE:GREGORIAN
METHOD:PUBLISH
X-WR-CALNAME:Cameroon&#039;s #1 Music and Entertainment Portal
X-ORIGINAL-URL:https://237showbiz.com
X-WR-CALDESC:Events for Cameroon&#039;s #1 Music and Entertainment Portal
BEGIN:VTIMEZONE
TZID:UTC
BEGIN:STANDARD
TZOFFSETFROM:+0000
TZOFFSETTO:+0000
TZNAME:UTC
DTSTART:20160101T000000
END:STANDARD
END:VTIMEZONE
BEGIN:VEVENT
DTSTART;TZID=UTC:20160820T180000
DTEND;TZID=UTC:20160820T190000
DTSTAMP:20260424T005743
CREATED:20160817T194749Z
LAST-MODIFIED:20160817T194749Z
UID:1759-1471716000-1471719600@237showbiz.com
SUMMARY:Interview With Blanche Bailly
DESCRIPTION:
URL:https://237showbiz.com/event/interview-with-blanche-bailly/
ATTACH;FMTTYPE=image/jpeg:https://237showbiz.com/wp-content/uploads/2016/08/blanche.jpg
END:VEVENT
END:VCALENDAR