BEGIN:VCALENDAR
VERSION:2.0
PRODID:-//Cameroon&#039;s #1 Music and Entertainment Portal - ECPv5.14.2.1//NONSGML v1.0//EN
CALSCALE:GREGORIAN
METHOD:PUBLISH
X-WR-CALNAME:Cameroon&#039;s #1 Music and Entertainment Portal
X-ORIGINAL-URL:https://237showbiz.com
X-WR-CALDESC:Events for Cameroon&#039;s #1 Music and Entertainment Portal
BEGIN:VTIMEZONE
TZID:UTC
BEGIN:STANDARD
TZOFFSETFROM:+0000
TZOFFSETTO:+0000
TZNAME:UTC
DTSTART:20170101T000000
END:STANDARD
END:VTIMEZONE
BEGIN:VEVENT
DTSTART;TZID=UTC:20170901T180000
DTEND;TZID=UTC:20170902T053000
DTSTAMP:20260423T232703
CREATED:20170724T194841Z
LAST-MODIFIED:20170724T195043Z
UID:7385-1504288800-1504330200@237showbiz.com
SUMMARY:Beta Night September 1st
DESCRIPTION:
URL:https://237showbiz.com/event/beta-night-september-1st/
ATTACH;FMTTYPE=image/jpeg:https://237showbiz.com/wp-content/uploads/2017/07/Artboard-1-2.jpg
END:VEVENT
END:VCALENDAR